BEGIN:VCALENDAR
VERSION:2.0
PRODID:-//White Dog Educateur Canin - ECPv6.15.17//NONSGML v1.0//EN
CALSCALE:GREGORIAN
METHOD:PUBLISH
X-ORIGINAL-URL:https://whitedog-educateur-canin.fr
X-WR-CALDESC:Évènements pour White Dog Educateur Canin
REFRESH-INTERVAL;VALUE=DURATION:PT1H
X-Robots-Tag:noindex
X-PUBLISHED-TTL:PT1H
BEGIN:VTIMEZONE
TZID:Europe/Paris
BEGIN:DAYLIGHT
TZOFFSETFROM:+0100
TZOFFSETTO:+0200
TZNAME:CEST
DTSTART:20250330T010000
END:DAYLIGHT
BEGIN:STANDARD
TZOFFSETFROM:+0200
TZOFFSETTO:+0100
TZNAME:CET
DTSTART:20251026T010000
END:STANDARD
BEGIN:DAYLIGHT
TZOFFSETFROM:+0100
TZOFFSETTO:+0200
TZNAME:CEST
DTSTART:20260329T010000
END:DAYLIGHT
BEGIN:STANDARD
TZOFFSETFROM:+0200
TZOFFSETTO:+0100
TZNAME:CET
DTSTART:20261025T010000
END:STANDARD
BEGIN:DAYLIGHT
TZOFFSETFROM:+0100
TZOFFSETTO:+0200
TZNAME:CEST
DTSTART:20270328T010000
END:DAYLIGHT
BEGIN:STANDARD
TZOFFSETFROM:+0200
TZOFFSETTO:+0100
TZNAME:CET
DTSTART:20271031T010000
END:STANDARD
END:VTIMEZONE
BEGIN:VEVENT
DTSTART;TZID=Europe/Paris:20260314T110000
DTEND;TZID=Europe/Paris:20260314T120000
DTSTAMP:20260424T125511
CREATED:20260223T153320Z
LAST-MODIFIED:20260223T153320Z
UID:4958-1773486000-1773489600@whitedog-educateur-canin.fr
SUMMARY:Balade éducative du samedi
DESCRIPTION:La balade éducative est une promenade collective d’une heure\, organisée chaque samedi en pleine nature. \nCe service permet à votre chien d’évoluer au sein d’un groupe pour entretenir sa socialisation et apprendre à gérer ses émotions en présence de congénères. C’est un exercice de mise en situation réelle\, accessible également aux chiens réactifs souhaitant progresser dans leur tolérance aux autres.
URL:https://whitedog-educateur-canin.fr/evenements/balade-educative-du-samedi-4/
LOCATION:Bonnelles\, 54 Rue de la Division Leclerc\, Bonnelles\, Yvelines\, 78830\, France
CATEGORIES:Balade Éducative
ATTACH;FMTTYPE=image/heic:https://whitedog-educateur-canin.fr/wp-content/uploads/2026/02/IMG_1590.heic
END:VEVENT
BEGIN:VEVENT
DTSTART;TZID=Europe/Paris:20260314T143000
DTEND;TZID=Europe/Paris:20260314T160000
DTSTAMP:20260424T125511
CREATED:20260223T154850Z
LAST-MODIFIED:20260307T192243Z
UID:4968-1773498600-1773504000@whitedog-educateur-canin.fr
SUMMARY:Cours collectif Adulte
DESCRIPTION:Le cours collectif est une étape essentielle pour valider les acquis de votre chien dans un environnement stimulant. \nCette séance permet de revoir les bases de l’éducation (les fondamentaux) en présence de distractions et surtout d’autres chiens. \n\n\nC’est un moment d’apprentissage qui mêle travail technique et exercices ludiques\, conçu pour renforcer l’obéissance et la réceptivité de votre compagnon tout en développant sa tolérance envers ses congénères. \n\nPour vous inscrire\, contactez moi au 06 32 38 42 70
URL:https://whitedog-educateur-canin.fr/evenements/cours-collectif-2/
LOCATION:Bonnelles\, 54 Rue de la Division Leclerc\, Bonnelles\, Yvelines\, 78830\, France
CATEGORIES:Cours collectifs
ATTACH;FMTTYPE=image/png:https://whitedog-educateur-canin.fr/wp-content/uploads/2026/02/IMG_7226-scaled.png
END:VEVENT
BEGIN:VEVENT
DTSTART;TZID=Europe/Paris:20260314T160000
DTEND;TZID=Europe/Paris:20260314T170000
DTSTAMP:20260424T125511
CREATED:20260223T185924Z
LAST-MODIFIED:20260307T192358Z
UID:4975-1773504000-1773507600@whitedog-educateur-canin.fr
SUMMARY:Cours collectif chiot
DESCRIPTION:Le cours collectif chiot est une étape essentielle pour valider les acquis de votre chiot dans un environnement stimulant. \nCette séance permet de revoir les bases de l’éducation (les fondamentaux) en présence de distraction et surtout d’autres chiots. \nC’est un moment d’apprentissage qui mêle travail technique et exercices ludiques\, conçus pour renforcer l’obéissance et la réceptivité de votre compagnon tout en développant sa tolérance envers ses congénères. \nPour vous inscrire\, contactez moi au 06 32 38 42 70.
URL:https://whitedog-educateur-canin.fr/evenements/cours-collectif-chiot/
LOCATION:Bonnelles\, 54 Rue de la Division Leclerc\, Bonnelles\, Yvelines\, 78830\, France
CATEGORIES:Cours collectifs
ATTACH;FMTTYPE=image/png:https://whitedog-educateur-canin.fr/wp-content/uploads/2026/02/IMG_7225-scaled.png
END:VEVENT
BEGIN:VEVENT
DTSTART;TZID=Europe/Paris:20260315T100000
DTEND;TZID=Europe/Paris:20260315T120000
DTSTAMP:20260424T125511
CREATED:20260119T194940Z
LAST-MODIFIED:20260223T152425Z
UID:4870-1773568800-1773576000@whitedog-educateur-canin.fr
SUMMARY:Initiation Cani Cross
DESCRIPTION:Parce que l’épanouissement de votre chien passe aussi par l’activité physique\, je vous propose une séance d’initiation au Cani-cross pour renforcer votre complicité autrement. \nLe triple champion de France 23-24-25 sera présent afin de coacher votre duo. \nVous serez maximum 5. \nInfos pratiques : \n\npas de femelles en chaleurs\,\npas de chiens seniors +\,\npas de chiens ayant des problèmes physiques (boiterie\, blessure\,…)\nles chiens réactifs sont acceptés\, il faudra avoir une muselière adaptées à votre chien pour les sports canin.\n\nMatériel :  \n\nun harnais adapté (harnais de traction on peut vous en prêter)\nune laisse ressort (on peut vous en prêter)\nun collier\nun baudrier (on peut vous en prêter)\nde l’eau pour vous et votre chien
URL:https://whitedog-educateur-canin.fr/evenements/initiation-cani-cross/
LOCATION:Yvelines
CATEGORIES:Activités sportives
ATTACH;FMTTYPE=image/heic:https://whitedog-educateur-canin.fr/wp-content/uploads/2026/01/IMG_4631.heic
END:VEVENT
BEGIN:VEVENT
DTSTART;TZID=Europe/Paris:20260321T110000
DTEND;TZID=Europe/Paris:20260321T120000
DTSTAMP:20260424T125511
CREATED:20260223T153623Z
LAST-MODIFIED:20260223T153623Z
UID:4962-1774090800-1774094400@whitedog-educateur-canin.fr
SUMMARY:Balade éducative du samedi
DESCRIPTION:La balade éducative est une promenade collective d’une heure\, organisée chaque samedi en pleine nature. \nCe service permet à votre chien d’évoluer au sein d’un groupe pour entretenir sa socialisation et apprendre à gérer ses émotions en présence de congénères. C’est un exercice de mise en situation réelle\, accessible également aux chiens réactifs souhaitant progresser dans leur tolérance aux autres.
URL:https://whitedog-educateur-canin.fr/evenements/balade-educative-du-samedi-5/
LOCATION:Bonnelles\, 54 Rue de la Division Leclerc\, Bonnelles\, Yvelines\, 78830\, France
CATEGORIES:Balade Éducative
ATTACH;FMTTYPE=image/heic:https://whitedog-educateur-canin.fr/wp-content/uploads/2026/02/IMG_1590.heic
END:VEVENT
BEGIN:VEVENT
DTSTART;TZID=Europe/Paris:20260322T140000
DTEND;TZID=Europe/Paris:20260322T160000
DTSTAMP:20260424T125511
CREATED:20260223T193347Z
LAST-MODIFIED:20260223T193347Z
UID:4980-1774188000-1774195200@whitedog-educateur-canin.fr
SUMMARY:Stage en ville
DESCRIPTION:Dans ce format\, nous travaillerons l’éducation générale (les fondamentaux) en ville et notamment à Rambouillet. \nNous irons en forêt mais aussi dans des rues commerçantes. \nAu programme : \n\ntravail des fondamentaux (marche au pied\, rappel\, assis\, pas bouger et l’ordre “laisse”)\nla mise en pratique du travail des fondamentaux en présence des stimuli (congénères\, joggeurs\, cyclistes\, etc…)\nimmersion en ville ( travail du trottoir\, du statique et autres attentes\,…)\n\nInfos pratiques : \n\nprévoir de l’eau\nune laisse d’environ d’1m50\nun collier\nune muselière adaptée\n\n 
URL:https://whitedog-educateur-canin.fr/evenements/stage-en-ville/
LOCATION:Parc du chateau Rambouillet\, chateau\, Rambouillet\, 78120\, France
CATEGORIES:Stages
ATTACH;FMTTYPE=image/jpeg:https://whitedog-educateur-canin.fr/wp-content/uploads/2026/02/IMG_7227.jpg
END:VEVENT
BEGIN:VEVENT
DTSTART;TZID=Europe/Paris:20260328T110000
DTEND;TZID=Europe/Paris:20260328T120000
DTSTAMP:20260424T125511
CREATED:20260223T153819Z
LAST-MODIFIED:20260223T153819Z
UID:4965-1774695600-1774699200@whitedog-educateur-canin.fr
SUMMARY:Balade éducative du samedi
DESCRIPTION:La balade éducative est une promenade collective d’une heure\, organisée chaque samedi en pleine nature. \nCe service permet à votre chien d’évoluer au sein d’un groupe pour entretenir sa socialisation et apprendre à gérer ses émotions en présence de congénères. C’est un exercice de mise en situation réelle\, accessible également aux chiens réactifs souhaitant progresser dans leur tolérance aux autres.
URL:https://whitedog-educateur-canin.fr/evenements/balade-educative-du-samedi-6/
LOCATION:Bonnelles\, 54 Rue de la Division Leclerc\, Bonnelles\, Yvelines\, 78830\, France
CATEGORIES:Balade Éducative
ATTACH;FMTTYPE=image/heic:https://whitedog-educateur-canin.fr/wp-content/uploads/2026/02/IMG_1590.heic
END:VEVENT
BEGIN:VEVENT
DTSTART;TZID=Europe/Paris:20260328T143000
DTEND;TZID=Europe/Paris:20260328T160000
DTSTAMP:20260424T125511
CREATED:20260223T155011Z
LAST-MODIFIED:20260307T192511Z
UID:4971-1774708200-1774713600@whitedog-educateur-canin.fr
SUMMARY:Cours collectif Adulte
DESCRIPTION:Le cours collectif est une étape essentielle pour valider les acquis de votre chien dans un environnement stimulant. \nCette séance permet de revoir les bases de l’éducation (les fondamentaux) en présence de distractions et surtout d’autres chiens. \n\n\nC’est un moment d’apprentissage qui mêle travail technique et exercices ludiques\, conçu pour renforcer l’obéissance et la réceptivité de votre compagnon tout en développant sa tolérance envers ses congénères. \n\nPour vous inscrire\, contactez moi au 06 32 38 42 70
URL:https://whitedog-educateur-canin.fr/evenements/cours-collectif-3/
LOCATION:Bonnelles\, 54 Rue de la Division Leclerc\, Bonnelles\, Yvelines\, 78830\, France
CATEGORIES:Cours collectifs
ATTACH;FMTTYPE=image/png:https://whitedog-educateur-canin.fr/wp-content/uploads/2026/02/IMG_7226-scaled.png
END:VEVENT
BEGIN:VEVENT
DTSTART;TZID=Europe/Paris:20260328T160000
DTEND;TZID=Europe/Paris:20260328T170000
DTSTAMP:20260424T125511
CREATED:20260223T190127Z
LAST-MODIFIED:20260307T192617Z
UID:4978-1774713600-1774717200@whitedog-educateur-canin.fr
SUMMARY:Cours collectif chiot
DESCRIPTION:Le cours collectif chiot est une étape essentielle pour valider les acquis de votre chiot dans un environnement stimulant. \nCette séance permet de revoir les bases de l’éducation (les fondamentaux) en présence de distraction et surtout d’autres chiots. \nC’est un moment d’apprentissage qui mêle travail technique et exercices ludiques\, conçus pour renforcer l’obéissance et la réceptivité de votre compagnon tout en développant sa tolérance envers ses congénères. \nPour vous inscrire\, contactez moi au 06 32 38 42 70.
URL:https://whitedog-educateur-canin.fr/evenements/cours-collectif-chiot-2/
LOCATION:Bonnelles\, 54 Rue de la Division Leclerc\, Bonnelles\, Yvelines\, 78830\, France
CATEGORIES:Cours collectifs
ATTACH;FMTTYPE=image/png:https://whitedog-educateur-canin.fr/wp-content/uploads/2026/02/IMG_7225-scaled.png
END:VEVENT
BEGIN:VEVENT
DTSTART;TZID=Europe/Paris:20260329T100000
DTEND;TZID=Europe/Paris:20260329T170000
DTSTAMP:20260424T125511
CREATED:20260204T141826Z
LAST-MODIFIED:20260307T192051Z
UID:4921-1774778400-1774803600@whitedog-educateur-canin.fr
SUMMARY:Initiation au Mantrailing - Journée découverte
DESCRIPTION:Découvrez le Mantrailing\, discipline fascinante où votre chien apprend à suivre une piste humaine grâce à son flair exceptionnel. \nLors de cette journée d’initiation\, vous et votre compagnon à quatre pattes apprendrez les bases de cette activité ludique et enrichissante : lecture des odeurs\, travail en binôme\, et mise en pratique sur le terrain. \nInfos pratiques : \n\n📅 Dimanche 29 mars 2026\n⏰ 10h – 12h partie théorique (sans son chien) et de 14 – 17h partie pratique\n💰 70€ par binôme maître/chien (6 chiens maximum)\n🐕 Ouvert à tous les chiens\, tous niveaux\n\nUne activité idéale pour renforcer votre complicité et stimuler les capacités naturelles de votre chien !
URL:https://whitedog-educateur-canin.fr/evenements/initiation-au-mantrailing-journee-decouverte/
LOCATION:Bonnelles\, 54 Rue de la Division Leclerc\, Bonnelles\, Yvelines\, 78830\, France
CATEGORIES:Activités sportives
ATTACH;FMTTYPE=image/png:https://whitedog-educateur-canin.fr/wp-content/uploads/2026/02/Afficher-les-photos-recentes.png
END:VEVENT
END:VCALENDAR