BEGIN:VCALENDAR
VERSION:2.0
PRODID:-//White Dog Educateur Canin - ECPv6.15.17//NONSGML v1.0//EN
CALSCALE:GREGORIAN
METHOD:PUBLISH
X-ORIGINAL-URL:https://whitedog-educateur-canin.fr
X-WR-CALDESC:Évènements pour White Dog Educateur Canin
REFRESH-INTERVAL;VALUE=DURATION:PT1H
X-Robots-Tag:noindex
X-PUBLISHED-TTL:PT1H
BEGIN:VTIMEZONE
TZID:Europe/Paris
BEGIN:DAYLIGHT
TZOFFSETFROM:+0100
TZOFFSETTO:+0200
TZNAME:CEST
DTSTART:20250330T010000
END:DAYLIGHT
BEGIN:STANDARD
TZOFFSETFROM:+0200
TZOFFSETTO:+0100
TZNAME:CET
DTSTART:20251026T010000
END:STANDARD
BEGIN:DAYLIGHT
TZOFFSETFROM:+0100
TZOFFSETTO:+0200
TZNAME:CEST
DTSTART:20260329T010000
END:DAYLIGHT
BEGIN:STANDARD
TZOFFSETFROM:+0200
TZOFFSETTO:+0100
TZNAME:CET
DTSTART:20261025T010000
END:STANDARD
BEGIN:DAYLIGHT
TZOFFSETFROM:+0100
TZOFFSETTO:+0200
TZNAME:CEST
DTSTART:20270328T010000
END:DAYLIGHT
BEGIN:STANDARD
TZOFFSETFROM:+0200
TZOFFSETTO:+0100
TZNAME:CET
DTSTART:20271031T010000
END:STANDARD
END:VTIMEZONE
BEGIN:VEVENT
DTSTART;TZID=Europe/Paris:20260215T140000
DTEND;TZID=Europe/Paris:20260215T180000
DTSTAMP:20260421T202449
CREATED:20260123T095039Z
LAST-MODIFIED:20260124T095241Z
UID:4913-1771164000-1771178400@whitedog-educateur-canin.fr
SUMMARY:Randonnée
DESCRIPTION:Le Randonnée permet d’éduquer ou de rééduquer votre chien dans un environnement riche en stimulations naturelles. \nVivez une véritable aventure avec votre chien ! Bien plus qu’une simple balade\, la Randonnée est une expérience immersive de 4 à 5 heures en pleine nature. Organisées en groupe\, ces sorties se déroulent dans des lieux variés (définis selon l’événement) pour offrir de nouveaux environnements stimulants. C’est l’occasion idéale pour votre compagnon de se dépenser physiquement tout en apprenant à gérer ses émotions sur la durée\, au sein d’une meute éphémère.
URL:https://whitedog-educateur-canin.fr/evenements/randonnee/
CATEGORIES:Randonnée
ATTACH;FMTTYPE=image/jpeg:https://whitedog-educateur-canin.fr/wp-content/uploads/2025/11/randonee-white-dog.jpeg
END:VEVENT
END:VCALENDAR